BEGIN:VCALENDAR
VERSION:2.0
PRODID:-//Gartner-Steffen Team - ECPv5.0.0.1//NONSGML v1.0//EN
CALSCALE:GREGORIAN
METHOD:PUBLISH
X-WR-CALNAME:Gartner-Steffen Team
X-ORIGINAL-URL:https://www.gartner-steffen.de/en
X-WR-CALDESC:Events for Gartner-Steffen Team
BEGIN:VTIMEZONE
TZID:Europe/Berlin
BEGIN:DAYLIGHT
TZOFFSETFROM:+0100
TZOFFSETTO:+0200
TZNAME:CEST
DTSTART:20190331T010000
END:DAYLIGHT
BEGIN:STANDARD
TZOFFSETFROM:+0200
TZOFFSETTO:+0100
TZNAME:CET
DTSTART:20191027T010000
END:STANDARD
END:VTIMEZONE
BEGIN:VEVENT
DTSTART;TZID=Europe/Berlin:20191230T080000
DTEND;TZID=Europe/Berlin:20191230T170000
DTSTAMP:20260421T091903
CREATED:20191230T095305Z
LAST-MODIFIED:20200127T144842Z
UID:3671-1577692800-1577725200@www.gartner-steffen.de
SUMMARY:(Mehr) Heiße Eisen: Führen in angespannten Situationen
DESCRIPTION:Heiße Eisen\nFühren in angespannten Situationen\nEin Seminar/Workshop für Führungskräfte \nBelästigungen und gefühlte Ungleichbehandlungen am Arbeitsplatz stören den Betriebsfrieden und führen dazu\, dass Mitarbeiter\, die sich diskriminiert/belästigt fühlen\, weniger Spaß an ihrer Arbeit haben. Sie fühlen sich seelisch und körperlich unwohl und sind in ihrer Leistungsfähigkeit eingeschränkt – manchmal kann die Leistungsfähigkeit des gesamten Teams unter einer tatsächlichen oder vermeintlichen Ungleichbehandlung leiden. \nFührungskräfte sind im Rahmen der Fürsorgepflicht verantwortlich dafür\, die Persönlichkeitsrechte der Unterstellten zu beachten. Die Frage „Wo beginnt ein Fehlverhalten?“ ist nicht leicht zu beantworten und sowohl der Umgang mit Beschwerdeführern als auch mit Beschuldigten kann emotionsgeladen sein und eine Klärung schwermachen. \nIn diesem Workshop geht es zum einen darum\, die Bedeutung und Auswirkung von Rollenklischees\, stereotypen Vorstellungen\, Diskriminierung und Belästigung zu verdeutlichen\, zum anderen lernen Führungskräfte Techniken kennen\, um in eskalierten Situationen die Beteiligten dabei zu unterstützen\, arbeitsfähig zu sein. Des Weiteren trägt Rechtssicherheit dazu bei\, auch in diesen Situationen als Führungskraft angemessen aufzutreten und Führungsaufgaben bewusst wahrzunehmen. \nFolgende Themen werden im Workshop schwerpunktmäßig behandelt:\n\nBegriffsdefinitionen: Die Bedeutung von Rollenklischees\, stereotypen Vorstellungen\, Diskriminierung\, Belästigung\nWahrnehmung und Deutungsmuster in heiklen Situationen\nUmgang mit Beschwerden und Beschwerdeführern\nUmgang mit Beschuldigten: Interventionen und Sanktionen gegen Belästiger\nFürsorgepflicht der Führungskraft\nFirmenrichtlinien und geltende Rechtslage\nKlärungs- und Unterstützungsgespräche durch die Führungskraft\nKlärungshilfe und Klärungsgespräche zwischen Belästigten und Beschul-digten\nDeeskalationstechniken\nMediationstechniken\nPraktische Übungen zur Anwendung von Deeskalations- und Mediation-stechniken\nUmsetzungsstrategien für die eigene Arbeits-/Führungssituation\n\nMethodik\nDie praktische Arbeit und der Erfahrungsaustausch untereinander stehen im Vordergrund des Workshops. Exemplarische Fallstudien und die Arbeit an seitens der Teilnehmer mitgebrachten Fällen ergänzen theoretischen Input. Die Teilnehmer werden für den Umgang mit der Thematik sensibilisiert\, lernen firmeninterne Richtlinien sowie arbeitsrechtliche Aspekte kennen und lernen\, mit der Thematik angemessen umzugehen. \nSeminarkosten\nDie Teilnehmergebühr für dieses 2-tägige Seminar beinhaltet jeweils die Seminardokumentation\, kalte/warme Pausengetränke sowie Businesslunch und beträgt 830 Euro/Teilnehmer. \nKontakt\n\n\n  \n\n\n\n\n	\n		\n		 \n	\n	\n		\n		 \n	\n	\n		Please leave this field empty.\n		 \n	\n\n\n	\n		\n		 \n	\n\n\n	\n		Ich bin mit der Speicherung und Weiterverarbeitung meiner Daten einverstanden. / I agree to the storage and further processing of my data.\n		 \n		\n		 \n	\n\n\n\n\n
URL:https://www.gartner-steffen.de/en/seminare/heisse-eisen-2/
CATEGORIES:Ask for a date
ATTACH;FMTTYPE=image/jpeg:https://www.gartner-steffen.de/wp-content/uploads/2019/08/blau19.jpg
END:VEVENT
END:VCALENDAR