BEGIN:VCALENDAR
VERSION:2.0
PRODID:-//Gartner-Steffen Team - ECPv5.0.0.1//NONSGML v1.0//EN
CALSCALE:GREGORIAN
METHOD:PUBLISH
X-WR-CALNAME:Gartner-Steffen Team
X-ORIGINAL-URL:https://www.gartner-steffen.de/en
X-WR-CALDESC:Events for Gartner-Steffen Team
BEGIN:VTIMEZONE
TZID:UTC
BEGIN:STANDARD
TZOFFSETFROM:+0000
TZOFFSETTO:+0000
TZNAME:UTC
DTSTART:20220101T000000
END:STANDARD
END:VTIMEZONE
BEGIN:VEVENT
DTSTART;TZID=UTC:20220524T090000
DTEND;TZID=UTC:20220525T170000
DTSTAMP:20260419T131741
CREATED:20170126T143449Z
LAST-MODIFIED:20211130T174022Z
UID:284-1653382800-1653498000@www.gartner-steffen.de
SUMMARY:From the idea to the concept - successfully developing concepts
DESCRIPTION:From the idea to the concept – successfully developing concepts\nDo you want to create concepts in a professional context or do you commission them? \nAre you looking for a structured\, creative form of concept work? \nThen you have come to the right place! \nBecause conceptual work is a craft that can be learned and considerably increases professional motivation and performance. And for innovation and change\, we need conceptual thinking and working to develop new solutions. \nIn this workshop you will learn how to take pleasure in developing an idea\, a topic or a process from an initial concept idea to a structured\, clear and concise concept that convinces others. \nContent focus\n\nConcept\, exposé\, template – what should it be?\nFrom call to order\nDevelop and clarify goals\nFrom empty sheets to structured work\nCollect and filter information\nDevelop solutions\nArgumentation and concept structures\nFormulate clearly\, simply and concisely\nOvercoming stumbling blocks\n\nMethodology\nTogether we approach the phases of a concept creation\, from the idea to the first concept draft. We develop individual solutions and offer professional support in structuring your ideas. Working in small groups enables the exchange of experiences and the processing of individual focal points\, and practical exercises and checklists help significantly to successfully implement the step-by-step process of concept work in everyday professional life. \nSeminar costs\nThe participation fee for this 2-day seminar includes seminar documents\, cold/warm drinks during breaks and business lunch and amounts to 850 Euro/participant plus VAT. \nNote on hygiene\nAll our events are carried out with the necessary safety precautions for hygiene\, which are based on the rules and recommendations of the Federal Centre for Health Education. \nIn concrete terms\, this means for our seminars: \n\nThe maximum number of participants is reduced to 6 persons. This guarantees a minimum distance of 1.5 metres between the participants.\nIn accordance with our hygiene concept\, all participants are requested to use the hand disinfectant provided by us each time they enter our institute.\nVentilation is provided during each break.\nAt least twice a day all surfaces and objects with which the participants come into contact (door handles\, tables\, light switches…) are disinfected.\nNose and mouth masks are available on request\n\nContact\n\n\n  \n\n\n\n\n	\n		\n		 \n	\n	\n		\n		 \n	\n	\n		Please leave this field empty.\n		 \n	\n\n\n	\n		\n		 \n	\n\n\n	\n		I agree to the storage and further processing of my data.\n		 \n		\n		 \n	\n\n\n\n\n  \n
URL:https://www.gartner-steffen.de/en/seminare/konzepte/
LOCATION:Theodor-Heuss-Platz 8\, Theodor-Heuss-Platz 8\, Berlin\, Berlin\, 14052\, Deutschland
CATEGORIES:Fixed date
ATTACH;FMTTYPE=image/jpeg:https://www.gartner-steffen.de/wp-content/uploads/2019/08/gruen22.jpg
END:VEVENT
END:VCALENDAR