BEGIN:VCALENDAR
VERSION:2.0
PRODID:-//Gartner-Steffen Team - ECPv5.0.0.1//NONSGML v1.0//EN
CALSCALE:GREGORIAN
METHOD:PUBLISH
X-WR-CALNAME:Gartner-Steffen Team
X-ORIGINAL-URL:https://www.gartner-steffen.de
X-WR-CALDESC:Veranstaltungen im Gartner-Steffen Team
BEGIN:VTIMEZONE
TZID:Europe/Berlin
BEGIN:DAYLIGHT
TZOFFSETFROM:+0100
TZOFFSETTO:+0200
TZNAME:CEST
DTSTART:20250330T010000
END:DAYLIGHT
BEGIN:STANDARD
TZOFFSETFROM:+0200
TZOFFSETTO:+0100
TZNAME:CET
DTSTART:20251026T010000
END:STANDARD
END:VTIMEZONE
BEGIN:VEVENT
DTSTART;TZID=Europe/Berlin:20251113T090000
DTEND;TZID=Europe/Berlin:20251114T170000
DTSTAMP:20260423T163917
CREATED:20190107T085148Z
LAST-MODIFIED:20250801T122607Z
UID:1534-1763024400-1763139600@www.gartner-steffen.de
SUMMARY:Nicht ärgern – nur wundern!
DESCRIPTION:Nicht ärgern – nur wundern!\nWie Sie in Konflikten gelassen bleiben. Wie Sie in Konflikten gelassen bleiben.\nEin Workshop für alle\, die in konfliktgeladenen Situationen mit dem Team\, Kolleg*innen\, Vorgesetzten und Kund*innen souverän und handlungsfähig sein wollen. \nZiele \nMit Konflikten im beruflichen Alltag umzugehen\, stellt für die meisten Menschen eine echte Herausforderung dar. \nWenn es dann noch zu Gefühlsausbrüchen kommt – bei Ihnen oder Ihrem Gesprächspartner – gerät die Situation schnell außer Kontrolle. In diesem Seminar erfahren Sie\, wie Sie in Konfliktsituationen mit den eigenen Emotionen und denen anderer Beteiligter souverän umgehen. So vermeiden Sie unnötige Eskalationen und bleiben handlungsfähig. \nInhalte\n\nEmotionen und ihr Ausdruck im Alltag: Wie entstehen Emotionen und wie erkennen wir sie?\nZwischenmenschliche Konflikte verstehen\n\nWas sind Konflikte und wie entstehen sie?\nWie beeinflusst die eigene Gefühlslage die Situation?\nWelche Konfliktstrategien wenden Sie derzeit an\n\n\nSituationsanalyse von emotionalen Konfliktsituationen im Arbeitsalltag\nEmotionen interpretieren\n\nUmgang mit den eigenen Emotionen\nReaktion auf konfliktgeladene Emotionen anderer\nEigene Reizthemen identifizieren\nStrategien zum Umgang mit den eigenen Reizthemen entwickeln\n\n\nEmotionalen Konflikten im Team und mit Vorgesetzten souverän begegnen\nErarbeiten und Trainieren von Handlungsalternativen zu herausfordernden Situationen im Arbeitsalltag\n\n\n\n\n Methodik\nDie praktische Arbeit und der Erfahrungsaustausch untereinander stehen im Vordergrund. Durch Fall- und Themenbearbeitung in gemeinsamer Runde\, Gruppen und Zweierteams\, mittels Übungen und Feedback haben die Teilnehmer*innen die Möglichkeit\, ihr eigenes Verhalten in emotional herausfordernden Situationen zu überprüfen und steigern so ihre persönliche Wirkung. \nSeminarkosten\n€ 875\,- zzgl. ges. MwSt. (inkl. Seminardokumentation\, Pausengetränke und Business-Lunch) \nKontakt\n\n\n  \n\n\n\n\n	\n		\n		 \n	\n	\n		\n		 \n	\n	\n		Please leave this field empty.\n		 \n	\n\n\n	\n		\n		 \n	\n\n\n	\n		Ich bin mit der Speicherung und Weiterverarbeitung meiner Daten einverstanden. / I agree to the storage and further processing of my data.\n		 \n		\n		 \n	\n\n\n\n\n
URL:https://www.gartner-steffen.de/seminare/aergern-ist-keine-loesung-souveraener-umgang-mit-eigenen-gefuehlen/
LOCATION:Bülowbogen\, Bülowstraße 66\, Berlin\, 107873\, Deutschland
CATEGORIES:Fester Termin
ATTACH;FMTTYPE=image/jpeg:https://www.gartner-steffen.de/wp-content/uploads/2019/08/gruen7.jpg
END:VEVENT
END:VCALENDAR