BEGIN:VCALENDAR
VERSION:2.0
PRODID:-//Gartner-Steffen Team - ECPv5.0.0.1//NONSGML v1.0//EN
CALSCALE:GREGORIAN
METHOD:PUBLISH
X-WR-CALNAME:Gartner-Steffen Team
X-ORIGINAL-URL:https://www.gartner-steffen.de
X-WR-CALDESC:Veranstaltungen im Gartner-Steffen Team
BEGIN:VTIMEZONE
TZID:Europe/Berlin
BEGIN:DAYLIGHT
TZOFFSETFROM:+0100
TZOFFSETTO:+0200
TZNAME:CEST
DTSTART:20230326T010000
END:DAYLIGHT
BEGIN:STANDARD
TZOFFSETFROM:+0200
TZOFFSETTO:+0100
TZNAME:CET
DTSTART:20231029T010000
END:STANDARD
END:VTIMEZONE
BEGIN:VEVENT
DTSTART;TZID=Europe/Berlin:20231106T090000
DTEND;TZID=Europe/Berlin:20231107T170000
DTSTAMP:20260425T102422
CREATED:20191230T105323Z
LAST-MODIFIED:20230608T151937Z
UID:3742-1699261200-1699376400@www.gartner-steffen.de
SUMMARY:Altersdiversität – Der optimale Mix im Team!
DESCRIPTION:Altersdiversität – Der optimale Mix im Team!\nZiele\nDie Zusammenarbeit altersgemischter Teams bietet Chancen und Risiken. Während die Jüngeren als wilde und unverantwortliche Grünschnäbel angesehen werden\, die sich nur die Rosinen aus der Arbeit picken\, schlagen sich die Älteren mit dem Vorurteil der Besserwisserei und Unbeweglichkeit herum\, die sie im „Weiter wie bisher“-Trott versinken lassen… Man könnte den Eindruck haben\, die Generationen prallen aufeinander und eine Zusammenarbeit ist nur unter schwierigsten Bedingungen möglich. Dass das nicht so sein muss\, zeigt dieser Workshop: Es geht darum\, sich der Chancen einer generationsübergreifenden Zusammenarbeit bewusst zu werden und diese nutzbar zu machen sowie die Risiken kennenzulernen und zu vermeiden. \nEin Schritt dazu ist\, die Erwartungen und Motive der jeweils anderen Seite zu kennen. Ein anderer\, die unterschiedlichen Erfahrungen beider Seiten zu nutzen. \nInhalt\n\nGenerationspersönlichkeiten: Generationsspezifische Unterschiede\nWahrnehmung\, Interpretation und Erwartungen jüngerer an ältere Kollegen und umgekehrt\n\nDas Alter neu entdecken – altersdifferenzierte Beschäftigungsbedingungen – Mythen und Wahrheiten\nDie Jugend auf bekannte Muster prüfen – Karriereorientierung versus Familiensinn – Mythen und Wahrheiten\n\n\nGenerationsspezifische Konflikte und Lösungen\nWissensmanagement im demografischen Wandel\n\nNeue Kenntnisse erwerben\nWeitergabe von Wissen\nSicherung von erworbenem Wissen / Know-How für das Unternehmen sichern\n\n\nLernstrategien Älterer / Lernstrategien Jüngerer\n\nMentorship und Mentorenkompetenz entwickeln\n\n\n\n Methodik\n Die praktische Arbeit steht im Vordergrund des Workshops. Die Teilnehmer*innen überprüfen durch Diskussionen\, Übungen\, Fallstudien und Checklisten ihre Einstellung und ihre Erfahrungen zum Thema „Arbeiten in altersgemischten Teams“. Sie überprüfen\, korrigieren\, bestätigen (Vor-)Urteile und werden sich eigener blinder Flecken bewusst. Neue positive Einstellungen bieten Verhaltens- und Handlungsalternativen und geben Sicherheit und Selbstbewusstsein. Sie tragen zur Persönlichkeitsentwicklung bei und führen zu hoher persönlicher Motivation. \nSeminarkosten\n€ 875\,- zzgl. ges. MwSt. (inkl. Pausenverpflegung\, Business-Lunch\, Seminardokumentation) \n  \nKontakt \n\n\n  \n\n\n\n\n	\n		\n		 \n	\n	\n		\n		 \n	\n	\n		Please leave this field empty.\n		 \n	\n\n\n	\n		\n		 \n	\n\n\n	\n		Ich bin mit der Speicherung und Weiterverarbeitung meiner Daten einverstanden. / I agree to the storage and further processing of my data.\n		 \n		\n		 \n	\n\n\n\n\n
URL:https://www.gartner-steffen.de/seminare/altersgemischte-teams/
LOCATION:Theodor-Heuss-Platz 8\, Theodor-Heuss-Platz 8\, Berlin\, Berlin\, 14052\, Deutschland
CATEGORIES:Fester Termin
ATTACH;FMTTYPE=image/jpeg:https://www.gartner-steffen.de/wp-content/uploads/2019/08/blau5.jpg
END:VEVENT
END:VCALENDAR