BEGIN:VCALENDAR
VERSION:2.0
PRODID:-//Gartner-Steffen Team - ECPv5.0.0.1//NONSGML v1.0//EN
CALSCALE:GREGORIAN
METHOD:PUBLISH
X-WR-CALNAME:Gartner-Steffen Team
X-ORIGINAL-URL:https://www.gartner-steffen.de
X-WR-CALDESC:Veranstaltungen im Gartner-Steffen Team
BEGIN:VTIMEZONE
TZID:Europe/Berlin
BEGIN:DAYLIGHT
TZOFFSETFROM:+0100
TZOFFSETTO:+0200
TZNAME:CEST
DTSTART:20190331T010000
END:DAYLIGHT
BEGIN:STANDARD
TZOFFSETFROM:+0200
TZOFFSETTO:+0100
TZNAME:CET
DTSTART:20191027T010000
END:STANDARD
END:VTIMEZONE
BEGIN:VEVENT
DTSTART;TZID=Europe/Berlin:20191230T080000
DTEND;TZID=Europe/Berlin:20191230T170000
DTSTAMP:20260426T030755
CREATED:20191230T104423Z
LAST-MODIFIED:20200127T144841Z
UID:3733-1577692800-1577725200@www.gartner-steffen.de
SUMMARY:Vom Kollegen zum Vorgesetzten 2 - Aufbauseminar
DESCRIPTION:Aufbauseminar\nVom Kollegen zum Vorgesetzten 2\nEin zweitägiges Seminar zur Reflektion und Förderung für Führungskräfte\, die an neuer Stelle erste Erfahrungen gesammelt haben \nZiele\nWie verliefen die ersten Erfahrungen in der Rolle als Führungskraft? Welche Ziele und Erwartungen wurden erfüllt? Welche Stolpersteine lagen/liegen auf dem Weg? \nIn diesem Aufbauseminar gilt es\, das Führungsverhalten zu reflektieren und den Lernprozess nachhaltig zu unterstützen. \nAnhand konkreter Situationen aus Ihrem Alltag als Vorgesetzte(r) wird an die Grundlagen des Basisseminars angeknüpft\, um Ihr Führungsverhalten individuell und zielgerichtet zu stärken. \nInhalte\n\nReflektion der bisherigen Erfahrungen\nMacht und Ohnmacht in der Führungsrolle – Rollenerwartungen vs. Rollenverständnis\nErwartungen auf beiden Seiten klären\, Akzeptanz u. Vertrauen herstellen\nKommunikation\, Information und Einbindung der Mitarbeiter fördern und fordern\nFeedback geben und einholen\nZwischen Nähe und Distanz: Psychologie des Führungsverhaltens\nSpielregeln für die Zusammenarbeit im Team vereinbaren\nKonfliktpotenziale in der Rolle als Führungskraft und beim Führen früherer Kolleg(inn)en entschärfen\nMitarbeitergespräche zu diversen Anlässen\nAktuelle Anliegen der Teilnehmer(innen)\n\nMethodik\nDie praktische Arbeit und der Erfahrungsaustausch untereinander stehen im Vordergrund des Seminars. Durch Themenbearbeitung in Kleingruppen\, mittels Übungen und Checklisten haben die Teilnehmer(innen) die Möglichkeit\, ihr eigenes Verhalten zu überprüfen und steigern so ihre persönliche Wirkung. Neue positive Einstellungen bieten Verhaltens- und Handlungsalternativen und geben – auch in schwierigen Situationen – Sicherheit und Selbstbewusstsein. Sie tragen zur Persönlichkeitsentwicklung bei und führen zu hoher persönlicher Motivation und Überzeugungskraft. \nSeminarkosten\nDie Teilnehmergebühr für dieses 2-tägige Seminar beinhaltet jeweils Seminarunterlagen\, kalte/warme Pausengetränke sowie Businesslunch und beträgt 830 Euro/Teilnehmer zzgl. MwSt. \nKontakt\n\n\n  \n\n\n\n\n	\n		\n		 \n	\n	\n		\n		 \n	\n	\n		Please leave this field empty.\n		 \n	\n\n\n	\n		\n		 \n	\n\n\n	\n		Ich bin mit der Speicherung und Weiterverarbeitung meiner Daten einverstanden. / I agree to the storage and further processing of my data.\n		 \n		\n		 \n	\n\n\n\n\n
URL:https://www.gartner-steffen.de/seminare/aufbauseminar2/
CATEGORIES:Termin erfragen
ATTACH;FMTTYPE=image/jpeg:https://www.gartner-steffen.de/wp-content/uploads/2019/08/blau28.jpg
END:VEVENT
END:VCALENDAR