BEGIN:VCALENDAR
VERSION:2.0
PRODID:-//Gartner-Steffen Team - ECPv5.0.0.1//NONSGML v1.0//EN
CALSCALE:GREGORIAN
METHOD:PUBLISH
X-WR-CALNAME:Gartner-Steffen Team
X-ORIGINAL-URL:https://www.gartner-steffen.de
X-WR-CALDESC:Veranstaltungen im Gartner-Steffen Team
BEGIN:VTIMEZONE
TZID:Europe/Berlin
BEGIN:DAYLIGHT
TZOFFSETFROM:+0100
TZOFFSETTO:+0200
TZNAME:CEST
DTSTART:20190331T010000
END:DAYLIGHT
BEGIN:STANDARD
TZOFFSETFROM:+0200
TZOFFSETTO:+0100
TZNAME:CET
DTSTART:20191027T010000
END:STANDARD
END:VTIMEZONE
BEGIN:VEVENT
DTSTART;TZID=Europe/Berlin:20191230T080000
DTEND;TZID=Europe/Berlin:20191230T170000
DTSTAMP:20260426T030541
CREATED:20191230T102153Z
LAST-MODIFIED:20200127T144841Z
UID:3701-1577692800-1577725200@www.gartner-steffen.de
SUMMARY:Durchsetzungsstark im Office
DESCRIPTION:Ein zweitägiges Seminar/Workshop für Sekretär/innen und Assistent/innen\nDurchsetzungsstark im Office\nZiele\nAls Assistent/in und/oder Sekretär/in müssen Sie effizienten Service für Ihren Vorgesetzten und/oder ein ganzes Team bieten. Dies erfordert ein großes Spektrum an Kompetenzen und Fähigkeiten\, um den Überblick zu behalten und vielen komplexen Anforderungen gleichzeitig gerecht zu werden. In diesem Training werden Strategien zum modernen Office-Management vermittelt. Sie lernen Methoden zum optimalen Umgang mit der Informationsflut unter Berücksichtigung zielgerichteter Kommunikation kennen und werden erfahren\, wie Sie dabei selbstbestimmt und verantwortungsvoll Handeln. Sie lernen Kommunikationsmethoden kennen\, mit denen Sie selbstbewusst und selbstsicher Ihre und die Belange Ihres / Ihrer Vorgesetzten kompetent durchsetzen und wie Sie souverän sowohl mit Argumenten als auch mit unberechtigten Angriffen umgehen. Durchsetzungsstrategien für wirkungsvolles Überzeugen werden nach Abschluss des Workshops zu Ihrem selbstverständlichen Repertoire gehören. \nInhalte:\n\nKlare Absprachen und präzise Information\n– So erreichen Sie freundlich aber bestimmt Ihr Ziel\n– Kontrollieren Sie den Dialog und überzeugen Sie statt zu überreden\nVerhandlungsgeschick im Office\n– Halten Sie Ihrem Chef den Rücken frei\n– Meistern Sie auch unangenehme Gespräche\nSouverän zwischen den Stühlen\n– Bringen Sie Ihre Absichten deutlich zum Ausdruck\n– Reklamieren Sie Unerledigtes korrekt und deutlich\nUmgang mit Konflikten\n– Mit konstruktiven Methoden Widerständen begegnen\n– Gekonnt Kritik üben und Feedback geben\nMehr Mut zum „Nein“\n– Wehren Sie unangemessene Forderungen ab\n– Vertreten Sie den eigenen Standpunkt klar und deutlich\n\nMethodik\nDie praktische Arbeit und der Erfahrungsaustausch untereinander stehen im Vordergrund des Seminars/Workshops. Durch Themenbearbeitung in Kleingruppen mittels Übungen und Checklisten haben die Teilnehmer/innen die Möglichkeit\, ihr eigenes Verhalten zu überprüfen\, und steigern so ihre persönliche Wirkung. Neue positive Einstellungen bieten Verhaltens- und Handlungsalternativen und geben – auch in schwierigen Situationen – Sicherheit und Selbstbewusstsein. Sie tragen zur Persönlichkeitsentwicklung bei und führen zu hoher persönlicher Motivation und Überzeugungskraft. \nSeminarkosten\nDie Teilnehmergebühr für dieses 2-tägige Seminar beinhaltet jeweils die Seminardokumentation\, kalte/warme Pausengetränke sowie Businesslunch und beträgt 850 Euro/Teilnehmer. \nKontakt\n\n\n  \n\n\n\n\n	\n		\n		 \n	\n	\n		\n		 \n	\n	\n		Please leave this field empty.\n		 \n	\n\n\n	\n		\n		 \n	\n\n\n	\n		Ich bin mit der Speicherung und Weiterverarbeitung meiner Daten einverstanden. / I agree to the storage and further processing of my data.\n		 \n		\n		 \n	\n\n\n\n\n
URL:https://www.gartner-steffen.de/seminare/durchsetzungsstark-im-office/
CATEGORIES:Termin erfragen
ATTACH;FMTTYPE=image/jpeg:https://www.gartner-steffen.de/wp-content/uploads/2019/08/gruendunkel8.jpg
END:VEVENT
END:VCALENDAR