BEGIN:VCALENDAR
VERSION:2.0
PRODID:-//Gartner-Steffen Team - ECPv5.0.0.1//NONSGML v1.0//EN
CALSCALE:GREGORIAN
METHOD:PUBLISH
X-WR-CALNAME:Gartner-Steffen Team
X-ORIGINAL-URL:https://www.gartner-steffen.de
X-WR-CALDESC:Veranstaltungen im Gartner-Steffen Team
BEGIN:VTIMEZONE
TZID:Europe/Berlin
BEGIN:DAYLIGHT
TZOFFSETFROM:+0100
TZOFFSETTO:+0200
TZNAME:CEST
DTSTART:20240331T010000
END:DAYLIGHT
BEGIN:STANDARD
TZOFFSETFROM:+0200
TZOFFSETTO:+0100
TZNAME:CET
DTSTART:20241027T010000
END:STANDARD
END:VTIMEZONE
BEGIN:VEVENT
DTSTART;TZID=Europe/Berlin:20241119T090000
DTEND;TZID=Europe/Berlin:20241120T170000
DTSTAMP:20260423T185616
CREATED:20191230T102957Z
LAST-MODIFIED:20240603T160007Z
UID:3714-1732006800-1732122000@www.gartner-steffen.de
SUMMARY:Emotionale Intelligenz - Menschenkenntnis oder Bauchgefühl?
DESCRIPTION:Emotionale Intelligenz – Menschenkenntnis oder Bauchgefühl?\nSich selbst und andere besser verstehen\nSie wollen andere Menschen besser einschätzen\, sie von Ihren Anliegen überzeugen und für neue Projekte gewinnen? Sie möchten kritische Situationen mit Sicherheit und Souveränität meistern? Dann ist dieses Seminar das richtige für Sie! \nGerade in Zeiten wie diesen\, die geprägt sind von Gesundheits-\, Wirtschafts-\, Vertrauens- und anderen Krisen\, wird es besonders deutlich\, wie wichtig es ist\, aufeinander zugehen zu können und wieder Verständnis füreinander zu entwickeln. Und genau dafür bedarf es eines Gradmessers\, einer „zwischenmenschlichen Antenne“\, die uns einen gangbaren Weg weisen kann. \nOb privat oder beruflich\, rein analytische oder bloße rational-logische Fähigkeiten reichen nicht aus\, um in beiden Bereichen erfolgreich zu sein. Die soziale Kompetenz / emotionale Intelligenz entscheidet mit. \nAn all jene\, die ihre eigenen Emotionen und die ihrer Mitmenschen besser einschätzen und somit die eigene Kommunikation nicht nur im Geschäftsleben zielorientierter und erfolgreicher gestalten möchten\, richtet sich dieses Seminar. \nInhaltliche Schwerpunkte\n\nWas ist emotionale Intelligenz und wie wirkt sie?\nDer Nutzen emotionaler Intelligenz\nDie Bedeutung von Wahrnehmungsphänomenen für die Zusammenarbeit im Team / im Unternehmen\nSelbstbewusstheit und Selbststeuerung\nSelbstmotivation – auch in schwierigen Zeiten und Situationen\nEmpathie und Einfühlungsvermögen – legitimer Anspruch vs. Überforderung\nSoziale Kompetenz: Bauernschläue\, Instinkt oder Gefühlsweisheit?\nKommunikationsfähigkeit und Konfliktmanagement\nSelbstanalyse der eigenen Persönlichkeit\n\nMethodik\nDieses Seminar besteht aus einer ausgewogenen Mischung kurzer Impulsvorträge der Trainer*in\, dem Austausch der Teilnehmer*innen untereinander und der gemeinsamen\, moderierten Diskussion durch die Trainer*in. Die Teilnehmer*innen werden anhand von Checklisten\, Übungen und Lernexperimenten ihre eigene Wahrnehmung und (Arbeits-) Situation überprüfen\, um ggf. Ideen zur Verbesserung zu entwickeln. In Kleingruppenarbeiten und Diskussionen im Plenum werden die verschiedenen Themen ausführlich reflektiert. \nSeminarkosten\n€ 875\,- zzgl. ges. MwSt. (inkl. Seminardokumentation\, Pausengetränke und Business-Lunch) \nKontakt\n\n\n  \n\n\n\n\n	\n		\n		 \n	\n	\n		\n		 \n	\n	\n		Please leave this field empty.\n		 \n	\n\n\n	\n		\n		 \n	\n\n\n	\n		Ich bin mit der Speicherung und Weiterverarbeitung meiner Daten einverstanden. / I agree to the storage and further processing of my data.\n		 \n		\n		 \n	\n\n\n\n\n
URL:https://www.gartner-steffen.de/seminare/emotionale-intelligenz/
LOCATION:Theodor-Heuss-Platz 8\, Theodor-Heuss-Platz 8\, Berlin\, Berlin\, 14052\, Deutschland
CATEGORIES:Fester Termin
ATTACH;FMTTYPE=image/jpeg:https://www.gartner-steffen.de/wp-content/uploads/2019/08/gruen4.jpg
END:VEVENT
END:VCALENDAR