BEGIN:VCALENDAR
VERSION:2.0
PRODID:-//Gartner-Steffen Team - ECPv5.0.0.1//NONSGML v1.0//EN
CALSCALE:GREGORIAN
METHOD:PUBLISH
X-WR-CALNAME:Gartner-Steffen Team
X-ORIGINAL-URL:https://www.gartner-steffen.de
X-WR-CALDESC:Veranstaltungen im Gartner-Steffen Team
BEGIN:VTIMEZONE
TZID:Europe/Berlin
BEGIN:DAYLIGHT
TZOFFSETFROM:+0100
TZOFFSETTO:+0200
TZNAME:CEST
DTSTART:20220327T010000
END:DAYLIGHT
BEGIN:STANDARD
TZOFFSETFROM:+0200
TZOFFSETTO:+0100
TZNAME:CET
DTSTART:20221030T010000
END:STANDARD
END:VTIMEZONE
BEGIN:VEVENT
DTSTART;TZID=Europe/Berlin:20220929T090000
DTEND;TZID=Europe/Berlin:20220930T170000
DTSTAMP:20260425T125526
CREATED:20220613T124205Z
LAST-MODIFIED:20220613T124205Z
UID:5378-1664442000-1664557200@www.gartner-steffen.de
SUMMARY:Keine Chance für Great Resignation!
DESCRIPTION:Keine Chance für Great Resignation!\nWie motivieren wir Mitarbeiter\, um Fluktuation zu verhindern?\nIn Deutschland denken derzeit rund 37 Prozent  der Beschäftigten daran\, den Job zu wechseln. Tatsächlich kündigte jeder Vierte im deutschsprachigen Raum\, und das\, ohne eine neue Stelle zu haben! Der Auslöser für dieses Phänomen ist unbestritten die Pandemie\, die für manche eine willkommene Auszeit / Verschnaufpause darstellte\, für andere hingegen mit einem enormen Stresslevel und damit auch einem erhöhten Frustrationsempfinden einherging. Was also ist zu tun? Wie kann Frust und Kündigung verhindert werden? Noch vor der Möglichkeit\, Arbeitsaufgaben im Home Office und mit flexibler Arbeitszeit erledigen zu können\, steht ein gutes Führungsverhalten an erster Stelle der Erwartungen an einen Arbeitgeber. „Wir müssen besser werden\, wenn es darum geht\, wie wir Menschen beschäftigen und wie wir ihre Arbeitserfahrung verwalten.“ (Björn Reynolds\, CEO von Safeguard Global) Konkret heißt das\, Mitarbeiter ernst gemeint und authentisch zu motivieren. Und das verlangt Geduld\, soziale Kompetenz und klare Aufgaben. \nInhalte\n\nWas motiviert? – Motivationskräfte\nWas schätze ich an meiner Arbeit? Was schätzen meine Kollegen und Mitarbeiter an ihrer Arbeit?\nDie eigene Haltung und Einstellung: Rollenklärung und eigener Führungsstil\nÜberzeugendes Auftreten\nMotivierendes und demotivierendes Führungsverhalten\n\nMotivationsfaktoren\nWie motiviere ich mich selbst – Wie motiviere ich andere?\n\n\nAngemessene Gesprächsführung\n\nPositive Stimmung im Gespräch\nKonfrontieren\, ohne zu verletzen\nKonstruktives Feedback\nUmgang mit Demotivation\n\n\n\nMethodik\nDie konkreten Situationen und die persönlichen Erfahrungen der Teilnehmer*innen stehen im Mittelpunkt des Seminars. Es besteht aus einer ausgewogenen Mischung kurzer Impulsvorträge des/der Trainer*in\, dem Austausch der Teilnehmer*innen untereinander und der gemeinsamen\, moderierten Diskussion durch den/die Trainer*in. Die Teilnehmer*innen werden ihre eigenes Vorgehen bzw. Verhalten reflektieren und Anregungen für (positive) Veränderungen entwickeln. Dabei werden die zentralen Ideen verschiedener Motivationstheorien erlebbar gemacht\, andere/neue Sichtweisen und Handlungsalternativen bewusst und Anstöße gegeben\, diese auf die eigene Tätigkeit zu übertragen. \nSeminarkosten\n€ 875\,- zzgl. ges. MwSt. (inkl. Seminardokumentation\, Pausengetränke und Business-Lunch) \nHinweis zur Hygiene\nHinweis zur Hygiene \nAlle unsere Veranstaltungen werden so durchgeführt\, dass sich die Teilnehmer*innen sicher und wohl fühlen sollen. \nEntsprechend unserem Hygienekonzept sind alle Teilnehmer*innen aufgefordert\, \n\nentweder geimpft oder\ngenesen oder\nnegativ auf das Corona-Virus getestet\n\nan der Veranstaltung teilzunehmen\, sowie \n\nbei jedem neuerlichen Betreten unseres Instituts das von uns zur Verfügung gestellte Handdesinfektionsmittel anzuwenden.\nsich nicht zu scheuen\, eine Maske zu tragen.\n\n\nIn jeder Pause wird durchgelüftet.\nMindestens zweimal täglich werden alle Flächen und Objekte\, mit denen die Teilnehmer*innen in Berührung kommen (Türklinken\, Tische\, Lichtschalter…)\, desinfiziert.\n\nAuf Wunsch stellen wir FFP2-Atemschutzmasken zur Verfügung. \nAuf Wunsch führen wir dieses Seminar auch als Onlineveranstaltung durch. \nKontakt\n\n\n  \n\n\n\n\n	\n		\n		 \n	\n	\n		\n		 \n	\n	\n		Please leave this field empty.\n		 \n	\n\n\n	\n		\n		 \n	\n\n\n	\n		Ich bin mit der Speicherung und Weiterverarbeitung meiner Daten einverstanden. / I agree to the storage and further processing of my data.\n		 \n		\n		 \n	\n\n\n\n\n
URL:https://www.gartner-steffen.de/seminare/keine-chance-fuer-great-resignation/
LOCATION:Theodor-Heuss-Platz 8\, Theodor-Heuss-Platz 8\, Berlin\, Berlin\, 14052\, Deutschland
CATEGORIES:Fester Termin
ATTACH;FMTTYPE=image/jpeg:https://www.gartner-steffen.de/wp-content/uploads/2019/08/gruendunkel8.jpg
END:VEVENT
END:VCALENDAR