BEGIN:VCALENDAR
VERSION:2.0
PRODID:-//Gartner-Steffen Team - ECPv5.0.0.1//NONSGML v1.0//EN
CALSCALE:GREGORIAN
METHOD:PUBLISH
X-WR-CALNAME:Gartner-Steffen Team
X-ORIGINAL-URL:https://www.gartner-steffen.de
X-WR-CALDESC:Veranstaltungen im Gartner-Steffen Team
BEGIN:VTIMEZONE
TZID:UTC
BEGIN:STANDARD
TZOFFSETFROM:+0000
TZOFFSETTO:+0000
TZNAME:UTC
DTSTART:20220101T000000
END:STANDARD
END:VTIMEZONE
BEGIN:VEVENT
DTSTART;TZID=UTC:20220524T090000
DTEND;TZID=UTC:20220525T170000
DTSTAMP:20260425T154300
CREATED:20170126T143449Z
LAST-MODIFIED:20211130T174022Z
UID:284-1653382800-1653498000@www.gartner-steffen.de
SUMMARY:Von der Idee zum Konzept – Erfolgreich Konzepte entwickeln
DESCRIPTION:Von der Idee zum Konzept – Erfolgreich Konzepte entwickeln\nSie wollen im beruflichen Kontext Konzepte erstellen oder geben sie in Auftrag? Sie suchen eine strukturierte\, kreative Form der Konzeptarbeit? \nDann sind Sie hier richtig! \nDenn konzeptionelles Arbeiten ist ein Handwerk\, das gelernt werden kann und die berufliche Motivation und Leistungsfähigkeit erheblich steigert. Und für Innovationen und Veränderungen brauchen wir konzeptionelles Denken und Arbeiten\, um neue Lösungen zu entwickeln. \nIn diesem Workshop lernen Sie\, wie Sie mit Freude an der Entwicklung einer Idee\, einem Thema oder einem Prozess von einer ersten Konzeptidee zu einem strukturierten\, klaren und prägnanten Konzept kommen\, das Andere überzeugt. \n Inhalt \n\nKonzept\, Exposé\, Vorlage – Was soll es sein?\nVom Zuruf zum Auftrag\nZiele entwickeln und klären\nVom leeren Blatt zum strukturierten Arbeiten\nInformationen sammeln und filtern\nLösungen entwickeln\nArgumentations- und Konzeptstrukturen\nKlar\, einfach und prägnant formulieren.\nStolpersteine überwinden \n\nMethodik \nGemeinsam nähern wir uns den Phasen einer Konzepterstellung\, von der Idee bis zum ersten Konzeptentwurf. Wir entwickeln individuelle Lösungen und bieten professionelle Unterstützung bei der Strukturierung Ihrer Ideen. Durch die Arbeit in Kleingruppen werden der Erfahrungsaustausch und die Bearbeitung von einzelnen Schwerpunkten ermöglicht und praktische Übungen und Checklisten helfen wesentlich\, den schrittweisen Prozess der Konzeptarbeit im beruflichen Alltag erfolgreich umzusetzen. \nSeminarkosten\n€ 875\,- zzgl. ges. MwSt. (inkl. Pausenverpflegung\, Business-Lunch\, Seminardokumentation) \nHinweis zur Hygiene\nAlle unsere Veranstaltungen werden gemäß der dritten SARS-CoV-2-Infektionsschutzmaßnahmenverordnung des Landes Berlin und zusätzlich nach unseren eigenen Sicherheitsvorkehrungen zur Hygiene nach 2G+ durchgeführt. \nKonkret heißt das für unsere Seminare: \n\nDie maximale Teilnehmerzahl ist auf 6 Personen reduziert. Dadurch kann der Mindestabstand von 1\,5 Metern zwischen den Teilnehmer*innen garantiert werden.\nEntsprechend unserem Hygienekonzept sind alle Teilnehmer*innen aufgefordert\,\n\neinen Impfnachweis vorzulegen\nalternativ einen Nachweis über die Genesung vorzulegen\neinen negativen Corona-Test\, nicht älter als 24 h\, vorzulegen\,\nalternativ einen Corona-Selbsttest vor Beginn der Veranstaltung bei uns durchzuführen (Tests sind bei uns vorrätig)\,\nbei jedem neuerlichen Betreten unseres Instituts das von uns zur Verfügung gestellte Handdesinfektionsmittel anzuwenden.\n\n\nIn jeder Pause wird durchgelüftet.\nMindestens zweimal täglich werden alle Flächen und Objekte\, mit denen die Teilnehmer in Berührung kommen (Türklinken\, Tische\, Lichtschalter…)\, desinfiziert.\nAuf Wunsch stellen wir FFP2-Atemschutzmasken zur Verfügung.\n\nAuf Wunsch führen wir dieses Seminar auch als Onlineveranstaltung durch. \nKontakt\n\n\n  \n\n\n\n\n	\n		\n		 \n	\n	\n		\n		 \n	\n	\n		Please leave this field empty.\n		 \n	\n\n\n	\n		\n		 \n	\n\n\n	\n		Ich bin mit der Speicherung und Weiterverarbeitung meiner Daten einverstanden. / I agree to the storage and further processing of my data.\n		 \n		\n		 \n	\n\n\n\n\n
URL:https://www.gartner-steffen.de/seminare/konzepte/
LOCATION:Theodor-Heuss-Platz 8\, Theodor-Heuss-Platz 8\, Berlin\, Berlin\, 14052\, Deutschland
CATEGORIES:Fester Termin
ATTACH;FMTTYPE=image/jpeg:https://www.gartner-steffen.de/wp-content/uploads/2019/08/gruen22.jpg
END:VEVENT
END:VCALENDAR