BEGIN:VCALENDAR
VERSION:2.0
PRODID:-//Gartner-Steffen Team - ECPv5.0.0.1//NONSGML v1.0//EN
CALSCALE:GREGORIAN
METHOD:PUBLISH
X-WR-CALNAME:Gartner-Steffen Team
X-ORIGINAL-URL:https://www.gartner-steffen.de
X-WR-CALDESC:Veranstaltungen im Gartner-Steffen Team
BEGIN:VTIMEZONE
TZID:Europe/Berlin
BEGIN:DAYLIGHT
TZOFFSETFROM:+0100
TZOFFSETTO:+0200
TZNAME:CEST
DTSTART:20260329T010000
END:DAYLIGHT
BEGIN:STANDARD
TZOFFSETFROM:+0200
TZOFFSETTO:+0100
TZNAME:CET
DTSTART:20261025T010000
END:STANDARD
END:VTIMEZONE
BEGIN:VEVENT
DTSTART;TZID=Europe/Berlin:20260326T090000
DTEND;TZID=Europe/Berlin:20260327T170000
DTSTAMP:20260423T170336
CREATED:20201127T163807Z
LAST-MODIFIED:20251107T105621Z
UID:5005-1774515600-1774630800@www.gartner-steffen.de
SUMMARY:Motivation! Gut drauf für mich und andere
DESCRIPTION:Motivation! Gut drauf für mich und andere\nEin Impulsworkshop für alle\, die mit (mehr) Freude und Spaß arbeiten wollen\nDer Hauptteil Ihrer beruflichen Tätigkeit besteht in der Kommunikation mit anderen Menschen. Hier gilt es\, neben dem Vermittelten von Fachaufgaben auch Ihre Kolleg*innen und Mitarbeiter*innen immer wieder für ihre Aufgaben zu motivieren\, hin und wieder schwierige Gespräche zu führen und sogar Probleme bzw. Konflikte zu meistern. Dass hierbei nicht alles „rund“ läuft und das tägliche Erfüllen dieser doch sehr anspruchsvollen Aufgaben anstrengend und immer wieder mühsam ist\, liegt auf der Hand. Um hierbei nicht die eigene Motivation zu verlieren und immer „am Ball“ zu bleiben\, bedarf es eines ganz bestimmten Selbstverständnisses\, des Wissens um das Ziel Ihrer Tätigkeit und der Gewissheit\, Hürden nehmen zu können. Lassen Sie uns in diesem Impulsworkshop besprechen\, wie Sie es schaffen können\, bei den unvermeidlichen „Tiefs“ sich immer wieder selbst zu ermuntern und mit einem guten Gefühl durch den Tag zu gehen. Denn wer selbst „gut drauf“ ist und die Welt eher positiv sieht\, kann auch anderen Freude und Energie geben! \nInhaltliche Schwerpunkte \n\nWas motiviert? – Motivationskräfte\nWas schätze ich an meiner Arbeit? Was schätzen meine Kolleg*innen an ihrer Arbeit?\nDie eigene Haltung und Einstellung\nDie Fish!-Philosophie:\n\nSpaß bei der Arbeit\,\nanderen eine Freude bereiten\,\npräsent sein\,\ndie eigene Einstellung wählen\n\n\nUmgang mit Demotivation\n\nMethodik\nDer Workshop wird lebendig gestaltet! \nDie praktische Arbeit und die Situationen der Teilnehmer*innen stehen im Mittelpunkt des Workshops. Durch \n\nWechsel von Informations- und Übungssequenzen\,\nLernexperimente und Übungen\,\nmoderierte Diskussionen\,\nBest-Practice-Sharing: Kollegiale Beratung und Unterstützung\n\nwerden die Teilnehmer*innen effiziente Instrumente und Methoden sowie deren Auswirkungen auf die eigene und die Leistung und Motivation der Kolleg*innen kennen lernen. So wird die Wahrnehmung geschärft und das eigene Verhaltensspektrum vergrößert. \nSeminarkosten\n€ 895\,- zzgl. ges. MwSt. (inkl. Seminardokumentation\, Pausengetränke und Business-Lunch) \nKontakt\n\n\n  \n\n\n\n\n	\n		\n		 \n	\n	\n		\n		 \n	\n	\n		Please leave this field empty.\n		 \n	\n\n\n	\n		\n		 \n	\n\n\n	\n		Ich bin mit der Speicherung und Weiterverarbeitung meiner Daten einverstanden. / I agree to the storage and further processing of my data.\n		 \n		\n		 \n	\n\n\n\n\n
URL:https://www.gartner-steffen.de/seminare/online-motivation-gut-drauf-fuer-mich-und-andere/
LOCATION:Bülowbogen\, Bülowstraße 66\, Berlin\, 107873\, Deutschland
CATEGORIES:Fester Termin
ATTACH;FMTTYPE=image/jpeg:https://www.gartner-steffen.de/wp-content/uploads/2019/08/gruendunkel12.jpg
END:VEVENT
END:VCALENDAR