BEGIN:VCALENDAR
VERSION:2.0
PRODID:-//Gartner-Steffen Team - ECPv5.0.0.1//NONSGML v1.0//EN
CALSCALE:GREGORIAN
METHOD:PUBLISH
X-WR-CALNAME:Gartner-Steffen Team
X-ORIGINAL-URL:https://www.gartner-steffen.de
X-WR-CALDESC:Veranstaltungen im Gartner-Steffen Team
BEGIN:VTIMEZONE
TZID:Europe/Berlin
BEGIN:DAYLIGHT
TZOFFSETFROM:+0100
TZOFFSETTO:+0200
TZNAME:CEST
DTSTART:20250330T010000
END:DAYLIGHT
BEGIN:STANDARD
TZOFFSETFROM:+0200
TZOFFSETTO:+0100
TZNAME:CET
DTSTART:20251026T010000
END:STANDARD
END:VTIMEZONE
BEGIN:VEVENT
DTSTART;TZID=Europe/Berlin:20250603T090000
DTEND;TZID=Europe/Berlin:20250604T170000
DTSTAMP:20260423T200307
CREATED:20240603T160948Z
LAST-MODIFIED:20241210T130017Z
UID:5700-1748941200-1749056400@www.gartner-steffen.de
SUMMARY:Psychische Belastung bei Mitarbeitern erkennen und konsequent handeln
DESCRIPTION:Psychische Belastung bei Mitarbeitern erkennen und konsequent handeln \nBurnout\, Depression und Co. boomen: So haben die AU-Tage aufgrund psychischer Erkrankungen seit 2014 um knapp 47 Prozent zugenommen (Stand: August 2024). Bei Krankschreibungen wegen Burnout-Erkrankungen war zudem ein Anstieg von 100 AU-Tagen je 100 erwerbstätige AOK-Mitglieder im Jahr 2014 auf knapp 184 Tage im Jahr 2024. \nJenseits der dem Unternehmen hierdurch entstehenden direkten Kosten für Lohnfortzahlung und Ersatzpersonal sind die indirekten Kosten schwerwiegend: Psychisch belastete Mitarbeiter leisten weniger\, werden u.U. gleichgültig gegenüber ihren Aufgaben und im Umgang mit Kunden nachlässiger. Zudem kann es durch Konzentrationsschwächen zu vermehrten Fehlern kommen\, die dann zu Reklamationen\, Qualitätsverlusten\, Produktionsverzögerungen bis hin zum Auftrags- und Kundenverlust führen. \nGenügend Gründe\, damit sich Firmen und Arbeitgeber mit Fragen der psychischen Gesundheit ihrer Belegschaft beschäftigen sollten. Und das schließt insbesondere die Sensibilisierung der Führungskräfte hinsichtlich der betrieblichen Stressfaktoren ein. Wie können Vorgesetzte und betrieblich Verantwortliche bei Mitarbeiter(innen)  Stresssymptome erkennen? Was können sie dann tun? Und wie können sie ihre Mitarbeiter(innen) unterstützen\, damit sie angemessene Selbstfürsorge betreiben können? \nIn diesem Seminar geht es darum\, Stressfaktoren am Arbeitsplatz (der Mitarbeiter(in) und des eigenen Arbeitsplatzes) zu erkennen und Möglichkeiten z.B. der Burnout-Prävention kennenzulernen. \nInhaltliche Schwerpunkte\n\nWas sind psychische Belastungen und wie äußern sie sich?\nWas bedeutet Stress? Wie kann mit Stress umgegangen werden?\nMotivationsfaktoren im Kampf gegen das Burnout Syndrom\nArbeitsorganisation\, die dem Stress entgegenwirkt\nMöglichkeiten und Grenzen des Selbst- und Zeitmanagements\nIdentifizieren von Stresssituationen und Entwickeln von Handlungsalternativen (für Mitarbeiter(in) und für die Führungskraft selbst)\nDas Gespräch mit der (vermeintlich?) gefährdeten Mitarbeiter(in)\nAktionspläne zur Umsetzung in den Arbeitsalltag\n\nMethodik\nDie praktische Arbeit steht im Vordergrund des Workshops. Die Teilnehmer(innen) überprüfen durch Diskussionen\, Übungen und anhand der eigenen Situation vor Ort ihre Erfahrungen und Vorgehensweisen zum Thema. Sie besprechen Verhaltens- und Handlungsalternativen und erhalten Sicherheit und Selbstbewusstsein für das künftige Agieren. \nSeminarkosten\n€ 875\,- zzgl. ges. MwSt. (inkl. Seminardokumentation\, Pausengetränke und Business-Lunch) \nKontakt\n\n\n  \n\n\n\n\n	\n		\n		 \n	\n	\n		\n		 \n	\n	\n		Please leave this field empty.\n		 \n	\n\n\n	\n		\n		 \n	\n\n\n	\n		Ich bin mit der Speicherung und Weiterverarbeitung meiner Daten einverstanden. / I agree to the storage and further processing of my data.\n		 \n		\n		 \n	\n\n\n\n\n
URL:https://www.gartner-steffen.de/seminare/psychische-belastung-bei-mitarbeitern-erkennen-und-konsequent-handeln/
LOCATION:Bülowbogen\, Bülowstraße 66\, Berlin\, 107873\, Deutschland
CATEGORIES:Fester Termin
ATTACH;FMTTYPE=image/jpeg:https://www.gartner-steffen.de/wp-content/uploads/2019/08/blau16-e1606323500727.jpg
END:VEVENT
END:VCALENDAR