BEGIN:VCALENDAR
VERSION:2.0
PRODID:-//Gartner-Steffen Team - ECPv5.0.0.1//NONSGML v1.0//EN
CALSCALE:GREGORIAN
METHOD:PUBLISH
X-WR-CALNAME:Gartner-Steffen Team
X-ORIGINAL-URL:https://www.gartner-steffen.de
X-WR-CALDESC:Veranstaltungen im Gartner-Steffen Team
BEGIN:VTIMEZONE
TZID:Europe/Berlin
BEGIN:DAYLIGHT
TZOFFSETFROM:+0100
TZOFFSETTO:+0200
TZNAME:CEST
DTSTART:20190331T010000
END:DAYLIGHT
BEGIN:STANDARD
TZOFFSETFROM:+0200
TZOFFSETTO:+0100
TZNAME:CET
DTSTART:20191027T010000
END:STANDARD
END:VTIMEZONE
BEGIN:VEVENT
DTSTART;TZID=Europe/Berlin:20191230T090000
DTEND;TZID=Europe/Berlin:20191230T170000
DTSTAMP:20260419T184925
CREATED:20191230T110016Z
LAST-MODIFIED:20230608T133832Z
UID:3754-1577696400-1577725200@www.gartner-steffen.de
SUMMARY:Psychologie für Führungskräfte
DESCRIPTION:Psychologie für Führungskräfte\n„Führen ist zielbezogene Einflussnahme“ (von Rosenstiel). Dieser Beeinflussungsprozess gelingt am ehesten\, wenn die Führungskraft die Verhaltensmuster ihrer Mitarbeiter deuten bzw. verstehen kann. Um nun auch noch mit den unterschiedlichen Verhaltensweisen angemessen umgehen zu können\, bedarf es des nötigen „Fingerspitzengefühls“. \nVerschiedene Ansätze der angewandten Psychologie können dabei helfen\, die Wahrnehmung zu schärfen und das eigene Verhaltensspektrum zu vergrößern. Somit gelangen Sie selbst zu mehr innerer Sicherheit und können kritischen Führungssituationen souveräner begegnen. \nInhalt\n\nEmotionale Intelligenz in der Führung\nNeuropsychologische Erkenntnisse für die Führungspraxis nutzbar machen\n\n\n\n\n\n\nDie Macht der Gedanken\nEmotionen verstehen\nUnser Hirn denkt in Bildern\n\n\n\n\n\n\nDas Zusammenspiel zwischen Denken\, Handeln und Fühlen besser verstehen\nPersönlichkeitsmodelle für den Führungsalltag\nUmgang mit verschiedenen Persönlichkeitstypen\nDas Wechselspiel von Selbst- und Fremdbild\nPsychologische Gesprächsführung zur Konfliktbewältigung\nWerkzeuge der Kommunikation richtig nutzen – Von der Kunst des Zuhörens\nAus der Praxis: Gespräche mit „schwierigen“ Mitarbeitern\n\nMethodik\nTrainer-Input\, Gruppenübungen\, moderierte Erfahrungsberichte\, praxiserprobte Übungen\, Einzelarbeit\, Praxisfälle\, Diskussionen\, Live-Coaching \nSeminarkosten\nDie Teilnehmergebühr für dieses 2-tägige Seminar beinhaltet Seminarunterlagen\, kalte/warme Pausengetränke sowie Businesslunch und beträgt 850 Euro/Teilnehmer zzgl. MwSt. \nKontakt\n\n\n  \n\n\n\n\n	\n		\n		 \n	\n	\n		\n		 \n	\n	\n		Please leave this field empty.\n		 \n	\n\n\n	\n		\n		 \n	\n\n\n	\n		Ich bin mit der Speicherung und Weiterverarbeitung meiner Daten einverstanden. / I agree to the storage and further processing of my data.\n		 \n		\n		 \n	\n\n\n\n\n
URL:https://www.gartner-steffen.de/seminare/psychologie-fuer-fuehrungskraefte/
CATEGORIES:Fester Termin
ATTACH;FMTTYPE=image/jpeg:https://www.gartner-steffen.de/wp-content/uploads/2019/08/blau17.jpg
END:VEVENT
END:VCALENDAR