BEGIN:VCALENDAR
VERSION:2.0
PRODID:-//Gartner-Steffen Team - ECPv5.0.0.1//NONSGML v1.0//EN
CALSCALE:GREGORIAN
METHOD:PUBLISH
X-WR-CALNAME:Gartner-Steffen Team
X-ORIGINAL-URL:https://www.gartner-steffen.de
X-WR-CALDESC:Veranstaltungen im Gartner-Steffen Team
BEGIN:VTIMEZONE
TZID:Europe/Berlin
BEGIN:DAYLIGHT
TZOFFSETFROM:+0100
TZOFFSETTO:+0200
TZNAME:CEST
DTSTART:20250330T010000
END:DAYLIGHT
BEGIN:STANDARD
TZOFFSETFROM:+0200
TZOFFSETTO:+0100
TZNAME:CET
DTSTART:20251026T010000
END:STANDARD
END:VTIMEZONE
BEGIN:VEVENT
DTSTART;TZID=Europe/Berlin:20250428T090000
DTEND;TZID=Europe/Berlin:20250429T170000
DTSTAMP:20260423T185046
CREATED:20200603T090621Z
LAST-MODIFIED:20241202T084007Z
UID:4756-1745830800-1745946000@www.gartner-steffen.de
SUMMARY:Selbstorganisation und Zeitmanagement
DESCRIPTION:Selbstorganisation und Zeitmanagement\n  \nSie hätten gerne mehr Zeit zur Verfügung? Am Ende des Tages haben Sie das Gefühl\, die Arbeit ist eher noch mehr statt weniger geworden? Ihr Schreibtisch bereitet Ihnen Unbehagen\, weil Sie darauf lauter unerledigte Arbeit finden? \nDann ist es Zeit für Zeitmanagement! Was heißt das? \nErfolgreiches Zeitmanagement heißt mehr\, als nur Termine zu verwalten. Zeitmanagement bedeutet auch erfolgreiche Lebensgestaltung. Und das schließt den sorgsamen Umgang mit sich und seinem Umfeld mit ein. \nIn diesem Seminar lernen Sie durch Überprüfen des eigenen Arbeitsstils\, Ihre Arbeit so einzuteilen und zu planen\, dass es Ihnen gelingt\, die zur Verfügung stehende Arbeitszeit optimal zu nutzen und durch ein stress- und unterbrechungsfreieres Arbeiten leistungsfähiger zu sein und zu mehr Arbeitszufriedenheit zu gelangen. \nSie sind in der Lage\, Ihren Arbeitsplatz und Ihr Büro so zu organisieren\, dass Sie schnell und zugriffsicher Ihre Unterlagen und Dateien finden. Sie kennen moderne Arbeitsmethoden und rationelle Arbeitsstile\, um Ihren Arbeitsprozess effizienter zu gestalten. Darüber hinaus werden Sie sich mit Ihren eigenen Stressverursachern auseinandersetzen sowie Möglichkeiten und Strategien entwickeln\, diesen gestärkt zu begegnen. \nSeminarinhalte\nTagesplanung \n\nPrinzip der Schriftlichkeit\nVerplanbare Zeit\, Zeitreserven\n\nPrioritäten setzen und Planungshilfen nutzen \n\nWozu dient eine „To-Do“ Liste\, was gehört auf die „To-Do“ Liste und wie arbeite ich damit?\nDas Pareto-Prinzip (Effektivität und Effizienz)\nDas Eisenhower-Prinzip (Wichtigkeit und Dringlichkeit)\n\nZeitfresser und Störfaktoren \n\nIdentifizieren eigener Zeitfresser\nBilden von Arbeitsblöcken\n\nZweckmäßige Einrichtung des Arbeitsplatzes zu Hause und im Büro \n\nWiedervorlage-Methoden\nGestaltung und Organisation des (Heim-) Arbeitsplatzes\nAblage/Dokumentation im Griff\n\nUmgang mit Stress \n\nErkennen der eigenen Stressoren\nEntwickeln von Bewältigungsstrategien\n\nMethodik\nDie praktische Arbeit steht im Vordergrund dieses Seminars. Die Teilnehmer/innen werden anhand von Fallstudien\, Übungen und Checklisten ihre eigene Arbeitssituation überprüfen\, um Ideen zur Verbesserung zu entwickeln. \nSeminarkosten\n€ 875\,-  zzgl. ges. MwSt. (inkl. Pausenverpflegung\, Business-Lunch\, Seminardokumentation) \n  \nKontakt \n\n\n  \n\n\n\n\n	\n		\n		 \n	\n	\n		\n		 \n	\n	\n		Please leave this field empty.\n		 \n	\n\n\n	\n		\n		 \n	\n\n\n	\n		Ich bin mit der Speicherung und Weiterverarbeitung meiner Daten einverstanden. / I agree to the storage and further processing of my data.\n		 \n		\n		 \n	\n\n\n\n\n
URL:https://www.gartner-steffen.de/seminare/zeitmanagement/
LOCATION:Bülowbogen\, Bülowstraße 66\, Berlin\, 107873\, Deutschland
CATEGORIES:Fester Termin
ATTACH;FMTTYPE=image/jpeg:https://www.gartner-steffen.de/wp-content/uploads/2019/08/blau19.jpg
END:VEVENT
END:VCALENDAR